BEGIN:VCALENDAR
VERSION:2.0
PRODID:-//Dev - ECPv6.12.0.1//NONSGML v1.0//EN
CALSCALE:GREGORIAN
METHOD:PUBLISH
X-WR-CALNAME:Dev
X-ORIGINAL-URL:https://www.kalinowepola.pl/cms
X-WR-CALDESC:Wydarzenia dla Dev
REFRESH-INTERVAL;VALUE=DURATION:PT1H
X-Robots-Tag:noindex
X-PUBLISHED-TTL:PT1H
BEGIN:VTIMEZONE
TZID:Europe/Warsaw
BEGIN:DAYLIGHT
TZOFFSETFROM:+0100
TZOFFSETTO:+0200
TZNAME:CEST
DTSTART:20260329T010000
END:DAYLIGHT
BEGIN:STANDARD
TZOFFSETFROM:+0200
TZOFFSETTO:+0100
TZNAME:CET
DTSTART:20261025T010000
END:STANDARD
END:VTIMEZONE
BEGIN:VEVENT
DTSTART;VALUE=DATE:20260420
DTEND;VALUE=DATE:20260421
DTSTAMP:20260419T213749
CREATED:20260401T132434Z
LAST-MODIFIED:20260401T132639Z
UID:1755-1776643200-1776729599@www.kalinowepola.pl
SUMMARY:Liga Match Play season 2026
DESCRIPTION:Serdecznie zapraszamy do udziału w Lidze Match Play 2026 ! \nZapisy przyjmujemy do 17 kwietnia\, natomiast losowanie pierwszych par odbędzie się 20 kwietnia. Pierwszą rundę należy rozegrać do 10 maja 2026 roku. \nTurniej zostanie rozegrany w systemie pucharowym Match Play netto (3/4 HCP). Zwycięzca każdego pojedynku awansuje do kolejnej rundy\, a przegrany odpada z dalszej rywalizacji. \nZachęcamy do szybkiego zgłaszania udziału – liczba miejsc jest ograniczona do 64 uczestników. \nStawką rywalizacji są tytuły: \n\nMistrza Klubu Match Play 2026 \nMistrza Ligi Match Play 2026 \n\nNie zwlekajcie – dołączcie do gry i powalczcie o najwyższe trofea! \n  \nRegulamin Liga Mach Play 2026 z 3-4 HCP
URL:https://www.kalinowepola.pl/cms/event/liga-match-play-season-2026/
CATEGORIES:kalinowe
END:VEVENT
BEGIN:VEVENT
DTSTART;VALUE=DATE:20260430
DTEND;VALUE=DATE:20260501
DTSTAMP:20260419T213749
CREATED:20260128T125348Z
LAST-MODIFIED:20260410T105359Z
UID:1682-1777507200-1777593599@www.kalinowepola.pl
SUMMARY:Kalinowa Liga 54 by Tomasz Puślecki Pracownia Optyczna
DESCRIPTION:Regulamin turnieju Kalinowa Liga 54 -2026. \nZapraszamy do zapisów na Kalinową Ligę 54 by Puślecki Pracownia Optyczna. \nDo wygrania imienne członkostwo na sezon 2027 ! \nTERMIN: Każdy ostatni czwartek miesiąca. \n30.04.2026 – West \n28.05.2026 – Central \n25.06.2026- East \n30.07.2026- West \n27.08.2026- Central \n24.09.2026- East \n11.10.2026 – FINAŁ \n  \nSTARTY:  Od 16:00 Shotgun  ( godz. Poszczególnych turniejów może ulec zmianie) \nRUNDA:  Cykl składa się z 6 rund\, każda po 9 dołków (2xEast; 2xCentral; 2xWest) oraz Finału na 27 lub 18 (w zależności od warunków pogodowych) dołkach\, który zostanie rozegrany w Październiku (najprawdopodobniej 11.10.2026r.) \nDo klasyfikacji generalnej liczona będzie suma uderzeń netto z 3 najlepszych rund eliminacyjnych (1xEast; 1xCentral i 1xWest) oraz finału. \nW przypadku remisów w klasyfikacji generalnej o końcowym miejscu decyduje miejsce w turnieju finałowym. W każdym kolejnym turnieju w ramach cyklu Liga 54 zawodnicy będą klasyfikowani według aktualnego HCP. \nW klasyfikacji generalnej zawodnicy będą klasyfikowani w grupie w której rozpoczęli eliminacje. \nLICZBA UCZESTNIKÓW:  Ograniczona max 40 osób\, decyduje kolejność zapisów.
URL:https://www.kalinowepola.pl/cms/event/kalinowa-liga-54-west/
CATEGORIES:kalinowe
END:VEVENT
BEGIN:VEVENT
DTSTART;VALUE=DATE:20260502
DTEND;VALUE=DATE:20260504
DTSTAMP:20260419T213749
CREATED:20260128T125439Z
LAST-MODIFIED:20260128T125439Z
UID:1684-1777680000-1777852799@www.kalinowepola.pl
SUMMARY:Ryder Cup KPGC / Przytok Golf Resort
DESCRIPTION:
URL:https://www.kalinowepola.pl/cms/event/ryder-cup-kpgc-przytok-golf-resort/
CATEGORIES:kalinowe
END:VEVENT
BEGIN:VEVENT
DTSTART;VALUE=DATE:20260512
DTEND;VALUE=DATE:20260513
DTSTAMP:20260419T213749
CREATED:20260129T112153Z
LAST-MODIFIED:20260129T112153Z
UID:1718-1778544000-1778630399@www.kalinowepola.pl
SUMMARY:Senior Golf Tour 2026
DESCRIPTION:
URL:https://www.kalinowepola.pl/cms/event/senior-golf-tour-2026/
CATEGORIES:zewnetrzny
END:VEVENT
BEGIN:VEVENT
DTSTART;VALUE=DATE:20260522
DTEND;VALUE=DATE:20260525
DTSTAMP:20260419T213749
CREATED:20260128T125525Z
LAST-MODIFIED:20260128T125525Z
UID:1686-1779408000-1779667199@www.kalinowepola.pl
SUMMARY:Match Play PZG
DESCRIPTION:
URL:https://www.kalinowepola.pl/cms/event/match-play-pzg/
CATEGORIES:zewnetrzny
END:VEVENT
BEGIN:VEVENT
DTSTART;VALUE=DATE:20260528
DTEND;VALUE=DATE:20260530
DTSTAMP:20260419T213749
CREATED:20260128T125643Z
LAST-MODIFIED:20260128T125643Z
UID:1688-1779926400-1780099199@www.kalinowepola.pl
SUMMARY:Mistrzostwa Polski Master Seniorów
DESCRIPTION:
URL:https://www.kalinowepola.pl/cms/event/mistrzostwa-polski-master-seniorow/
CATEGORIES:zewnetrzny
END:VEVENT
BEGIN:VEVENT
DTSTART;VALUE=DATE:20260531
DTEND;VALUE=DATE:20260601
DTSTAMP:20260419T213749
CREATED:20260128T125708Z
LAST-MODIFIED:20260128T125708Z
UID:1690-1780185600-1780271999@www.kalinowepola.pl
SUMMARY:WAGC
DESCRIPTION:
URL:https://www.kalinowepola.pl/cms/event/wagc/
CATEGORIES:zewnetrzny
END:VEVENT
BEGIN:VEVENT
DTSTART;VALUE=DATE:20260621
DTEND;VALUE=DATE:20260622
DTSTAMP:20260419T213749
CREATED:20260128T125750Z
LAST-MODIFIED:20260128T125750Z
UID:1692-1782000000-1782086399@www.kalinowepola.pl
SUMMARY:Wolsztyn Cup 2026
DESCRIPTION:
URL:https://www.kalinowepola.pl/cms/event/wolsztyn-cup-2026/
CATEGORIES:kalinowe
END:VEVENT
BEGIN:VEVENT
DTSTART;VALUE=DATE:20260704
DTEND;VALUE=DATE:20260705
DTSTAMP:20260419T213749
CREATED:20260128T125856Z
LAST-MODIFIED:20260128T125856Z
UID:1694-1783123200-1783209599@www.kalinowepola.pl
SUMMARY:Polish Masters
DESCRIPTION:
URL:https://www.kalinowepola.pl/cms/event/polish-masters/
CATEGORIES:zewnetrzny
END:VEVENT
BEGIN:VEVENT
DTSTART;VALUE=DATE:20260712
DTEND;VALUE=DATE:20260713
DTSTAMP:20260419T213749
CREATED:20260128T130034Z
LAST-MODIFIED:20260128T130034Z
UID:1696-1783814400-1783900799@www.kalinowepola.pl
SUMMARY:Dr Irena Eris Ladies’ Golf Tour 2026
DESCRIPTION:
URL:https://www.kalinowepola.pl/cms/event/dr-irena-eris-ladies-golf-tour-2026/
CATEGORIES:zewnetrzny
END:VEVENT
BEGIN:VEVENT
DTSTART;VALUE=DATE:20260720
DTEND;VALUE=DATE:20260723
DTSTAMP:20260419T213749
CREATED:20260128T130116Z
LAST-MODIFIED:20260128T130116Z
UID:1698-1784505600-1784764799@www.kalinowepola.pl
SUMMARY:5 Stars
DESCRIPTION:
URL:https://www.kalinowepola.pl/cms/event/5-stars/
CATEGORIES:zewnetrzny
END:VEVENT
BEGIN:VEVENT
DTSTART;VALUE=DATE:20260730
DTEND;VALUE=DATE:20260731
DTSTAMP:20260419T213749
CREATED:20260128T130159Z
LAST-MODIFIED:20260128T130159Z
UID:1700-1785369600-1785455999@www.kalinowepola.pl
SUMMARY:Kalinowa Liga 54 WEST
DESCRIPTION:
URL:https://www.kalinowepola.pl/cms/event/kalinowa-liga-54-west-2/
CATEGORIES:kalinowe
END:VEVENT
BEGIN:VEVENT
DTSTART;VALUE=DATE:20260801
DTEND;VALUE=DATE:20260802
DTSTAMP:20260419T213749
CREATED:20260128T130239Z
LAST-MODIFIED:20260128T130239Z
UID:1702-1785542400-1785628799@www.kalinowepola.pl
SUMMARY:Turniej Andrzeja Zawistowskiego 2026
DESCRIPTION:
URL:https://www.kalinowepola.pl/cms/event/turniej-andrzeja-zawistowskiego-2026/
CATEGORIES:kalinowe
END:VEVENT
BEGIN:VEVENT
DTSTART;VALUE=DATE:20260814
DTEND;VALUE=DATE:20260815
DTSTAMP:20260419T213749
CREATED:20260128T130312Z
LAST-MODIFIED:20260128T130312Z
UID:1704-1786665600-1786751999@www.kalinowepola.pl
SUMMARY:Wiśnia Cup 2026
DESCRIPTION:
URL:https://www.kalinowepola.pl/cms/event/wisnia-cup-2026/
CATEGORIES:kalinowe
END:VEVENT
BEGIN:VEVENT
DTSTART;VALUE=DATE:20260905
DTEND;VALUE=DATE:20260907
DTSTAMP:20260419T213749
CREATED:20260128T130350Z
LAST-MODIFIED:20260317T121002Z
UID:1706-1788566400-1788739199@www.kalinowepola.pl
SUMMARY:Otwarte Mistrzostwa Klubu KPGC 2026
DESCRIPTION:
URL:https://www.kalinowepola.pl/cms/event/otwarte-mistrzostwa-klubu-kpgc-2026/
CATEGORIES:kalinowe
END:VEVENT
BEGIN:VEVENT
DTSTART;VALUE=DATE:20260912
DTEND;VALUE=DATE:20260914
DTSTAMP:20260419T213749
CREATED:20260317T121047Z
LAST-MODIFIED:20260317T121549Z
UID:1740-1789171200-1789343999@www.kalinowepola.pl
SUMMARY:Otwarte Mistrzostwa Klubu Juniorów KPGC
DESCRIPTION:
URL:https://www.kalinowepola.pl/cms/event/otwarte-mistrzostwa-klubu-juniorow-kpgc-2/
CATEGORIES:kalinowe
END:VEVENT
BEGIN:VEVENT
DTSTART;VALUE=DATE:20260924
DTEND;VALUE=DATE:20260925
DTSTAMP:20260419T213749
CREATED:20260128T125036Z
LAST-MODIFIED:20260129T114308Z
UID:1678-1790208000-1790294399@www.kalinowepola.pl
SUMMARY:Kalinowa Liga 54 - EAST
DESCRIPTION:
URL:https://www.kalinowepola.pl/cms/event/kalinowa-liga-54-east/
CATEGORIES:kalinowe
END:VEVENT
BEGIN:VEVENT
DTSTART;VALUE=DATE:20260926
DTEND;VALUE=DATE:20260928
DTSTAMP:20260419T213749
CREATED:20260128T130516Z
LAST-MODIFIED:20260128T130516Z
UID:1710-1790380800-1790553599@www.kalinowepola.pl
SUMMARY:Mistrzostwa Klubu Par 2026
DESCRIPTION:
URL:https://www.kalinowepola.pl/cms/event/mistrzostwa-klubu-par-2026/
CATEGORIES:kalinowe
END:VEVENT
BEGIN:VEVENT
DTSTART;VALUE=DATE:20261003
DTEND;VALUE=DATE:20261004
DTSTAMP:20260419T213749
CREATED:20260128T130549Z
LAST-MODIFIED:20260128T130549Z
UID:1712-1790985600-1791071999@www.kalinowepola.pl
SUMMARY:October Cup 2026
DESCRIPTION:
URL:https://www.kalinowepola.pl/cms/event/october-cup-2026/
CATEGORIES:kalinowe
END:VEVENT
BEGIN:VEVENT
DTSTART;VALUE=DATE:20261011
DTEND;VALUE=DATE:20261012
DTSTAMP:20260419T213749
CREATED:20260129T112406Z
LAST-MODIFIED:20260129T112406Z
UID:1720-1791676800-1791763199@www.kalinowepola.pl
SUMMARY:Kalinowa Liga 54 - FINAŁ
DESCRIPTION:
URL:https://www.kalinowepola.pl/cms/event/kalinowa-liga-54-final-2/
CATEGORIES:kalinowe
END:VEVENT
BEGIN:VEVENT
DTSTART;VALUE=DATE:20261024
DTEND;VALUE=DATE:20261025
DTSTAMP:20260419T213749
CREATED:20260128T130612Z
LAST-MODIFIED:20260128T130612Z
UID:1714-1792800000-1792886399@www.kalinowepola.pl
SUMMARY:Family Cup 2026
DESCRIPTION:
URL:https://www.kalinowepola.pl/cms/event/family-cup-2026/
CATEGORIES:kalinowe
END:VEVENT
BEGIN:VEVENT
DTSTART;VALUE=DATE:20261111
DTEND;VALUE=DATE:20261112
DTSTAMP:20260419T213749
CREATED:20260128T130637Z
LAST-MODIFIED:20260128T130637Z
UID:1716-1794355200-1794441599@www.kalinowepola.pl
SUMMARY:Turniej Niepodległości
DESCRIPTION:
URL:https://www.kalinowepola.pl/cms/event/turniej-niepodleglosci/
CATEGORIES:kalinowe
END:VEVENT
END:VCALENDAR