BEGIN:VCALENDAR
VERSION:2.0
PRODID:-//Dev - ECPv6.12.0.1//NONSGML v1.0//EN
CALSCALE:GREGORIAN
METHOD:PUBLISH
X-WR-CALNAME:Dev
X-ORIGINAL-URL:https://www.kalinowepola.pl/cms
X-WR-CALDESC:Wydarzenia dla Dev
REFRESH-INTERVAL;VALUE=DURATION:PT1H
X-Robots-Tag:noindex
X-PUBLISHED-TTL:PT1H
BEGIN:VTIMEZONE
TZID:Europe/Warsaw
BEGIN:DAYLIGHT
TZOFFSETFROM:+0100
TZOFFSETTO:+0200
TZNAME:CEST
DTSTART:20250330T010000
END:DAYLIGHT
BEGIN:STANDARD
TZOFFSETFROM:+0200
TZOFFSETTO:+0100
TZNAME:CET
DTSTART:20251026T010000
END:STANDARD
END:VTIMEZONE
BEGIN:VEVENT
DTSTART;TZID=Europe/Warsaw:20250704T170000
DTEND;TZID=Europe/Warsaw:20250704T190000
DTSTAMP:20260420T080719
CREATED:20250611T115437Z
LAST-MODIFIED:20250613T110121Z
UID:1381-1751648400-1751655600@www.kalinowepola.pl
SUMMARY:Kalinowo Beginners League 2025 - Akademia Golfa
DESCRIPTION:Regulamin turnieju beginners 2025 Akademia Golfa \nUwaga ! zmiana terminu z 08.08.2025 na 01.08.2025.
URL:https://www.kalinowepola.pl/cms/event/kalinowo-beginners-league-2025-akademia-golfa-2/
CATEGORIES:kalinowe
END:VEVENT
BEGIN:VEVENT
DTSTART;VALUE=DATE:20250705
DTEND;VALUE=DATE:20250706
DTSTAMP:20260420T080719
CREATED:20250610T185629Z
LAST-MODIFIED:20250704T102730Z
UID:1370-1751673600-1751759999@www.kalinowepola.pl
SUMMARY:Wolsztyn Cup 2025
DESCRIPTION:Wolsztyn Cup 2025 – Regulamin turnieju \nObowiązuje limit zawodników ! \nUWAGA ! STARTY OD GODZINY 08:30 Z TEE 1 ORAZ Z TEE 10 !! \nTEE TIME \n  \n\n		\n		\n			\n				\n			\n		\n\n 
URL:https://www.kalinowepola.pl/cms/event/wolsztyn-cup-2025/
CATEGORIES:kalinowe
END:VEVENT
BEGIN:VEVENT
DTSTART;TZID=Europe/Warsaw:20250710T170000
DTEND;TZID=Europe/Warsaw:20250710T200000
DTSTAMP:20260420T080719
CREATED:20250611T120050Z
LAST-MODIFIED:20250709T093350Z
UID:1397-1752166800-1752177600@www.kalinowepola.pl
SUMMARY:Girls Golf Too !
DESCRIPTION:Girls Golf Too ! Summer series 2025 – regulamin turnieju \nKalendarz turniejów Summer : \n\n10 lipca – dress code: kolor niebieski. Pole East.\n24 lipca – dress code: kolor biały. Pole West.\n21 sierpień – dress code: kolor zielony. Pole East.\n29 sierpień – dress code: kolor różowy. Pole West.\n\nFINAŁ  06.09.2025 Kalinowe Pola Golf Course \nNAGRODY \n\nKlasyfikacja Generalna w dwóch grupach HCP: 0 – 36\,0 i 36\,1 – 54\,\n\n1 miejsce – 25% zniżki na członkostwo KPGC oraz nagrody rzeczowe \n2 miejsce – 15% zniżki na członkostwo KPGC oraz nagrody rzeczowe \n3 miejsce – 10% zniżki na członkostwo KPGC oraz nagrody rzeczowe
URL:https://www.kalinowepola.pl/cms/event/girls-golf-too/
CATEGORIES:kalinowe
END:VEVENT
BEGIN:VEVENT
DTSTART;VALUE=DATE:20250713
DTEND;VALUE=DATE:20250714
DTSTAMP:20260420T080719
CREATED:20250611T115624Z
LAST-MODIFIED:20250620T103414Z
UID:1385-1752364800-1752451199@www.kalinowepola.pl
SUMMARY:WAGC 2025
DESCRIPTION:https://eagle.polski.golf/tournament/v335/#/11756/info
URL:https://www.kalinowepola.pl/cms/event/wagc-2025/
CATEGORIES:zewnetrzny
END:VEVENT
BEGIN:VEVENT
DTSTART;TZID=Europe/Warsaw:20250718T170000
DTEND;TZID=Europe/Warsaw:20250718T190000
DTSTAMP:20260420T080719
CREATED:20250611T115513Z
LAST-MODIFIED:20250613T110238Z
UID:1383-1752858000-1752865200@www.kalinowepola.pl
SUMMARY:Kalinowo Beginners League 2025 - Akademia Golfa
DESCRIPTION:Regulamin turnieju beginners 2025 Akademia Golfa \nUwaga ! zmiana terminu z 08.08.2025 na 01.08.2025.
URL:https://www.kalinowepola.pl/cms/event/kalinowo-beginners-league-2025-akademia-golfa-3/
CATEGORIES:kalinowe
END:VEVENT
BEGIN:VEVENT
DTSTART;VALUE=DATE:20250720
DTEND;VALUE=DATE:20250721
DTSTAMP:20260420T080719
CREATED:20250611T115716Z
LAST-MODIFIED:20250714T094215Z
UID:1387-1752969600-1753055999@www.kalinowepola.pl
SUMMARY:Polish Masters 2025
DESCRIPTION:Już 20 lipca na naszym polu golfowym odbędzie się turniej Polish Masters.  \n\nUczestnicy rywalizacji zagrają o awans do turnieju finałowego we Wrocławiu\, gdzie rywalizacja będzie toczyć się o nagrodę główną – 8 zaproszeń na finał zagraniczny;\nNa licznych dołkach konkursowych i w turnieju możecie wygrać fantastyczne nagrody m.in. bilety lotnicze do Turcji\, kolekcjonerskie monety\, sprzęt golfowy i wiele innych wartościowych upominków;\nRozgrywkom na polu mistrzowskim towarzyszyć będzie dodatkowy turniej Future Mastersna małym 9-dołkowym polu. Do udziału w nim zapraszamy wszystkich początkujących!\nNa stoiskach partnerskich będziecie mieli okazję wziąć udział w dodatkowych konkursach z nagrodami.\nTegoroczna edycja to jeszcze więcej rywalizacji sportowej. Od tego sezonu w każdym z turniejów Polish Masters wyróżnienia przyznawane są nie tylko laureatom 5 grup HCP\, ale także zwycięzcom klasyfikacji stroke play brutto. Dodatkowo obniżony został limit wieku (od 19 lat)\, by jeszcze bardziej podkręcić sportowe emocje.\n\nZapraszamy do zapisów: na www.polishmasters.pl
URL:https://www.kalinowepola.pl/cms/event/polish-masters-2025/
CATEGORIES:zewnetrzny
END:VEVENT
BEGIN:VEVENT
DTSTART;TZID=Europe/Warsaw:20250724T170000
DTEND;TZID=Europe/Warsaw:20250724T200000
DTSTAMP:20260420T080719
CREATED:20250611T120118Z
LAST-MODIFIED:20250709T102214Z
UID:1399-1753376400-1753387200@www.kalinowepola.pl
SUMMARY:Girls Golf Too !
DESCRIPTION:Girls Golf Too ! Summer series 2025 – regulamin turnieju
URL:https://www.kalinowepola.pl/cms/event/girls-golf-too-2/
CATEGORIES:kalinowe
END:VEVENT
BEGIN:VEVENT
DTSTART;TZID=Europe/Warsaw:20250731T163000
DTEND;TZID=Europe/Warsaw:20250731T200000
DTSTAMP:20260420T080719
CREATED:20250611T115806Z
LAST-MODIFIED:20250731T091854Z
UID:1389-1753979400-1753992000@www.kalinowepola.pl
SUMMARY:Kalinowa Liga 54
DESCRIPTION:Tee time Pole East \nStart turnieju godzina 16:30. UWAGA ! Dwa flighty startują już o godzinie 16:20. Prosimy o uważne sprawdzenie listy startowej.
URL:https://www.kalinowepola.pl/cms/event/kalinowa-liga-54/
CATEGORIES:kalinowe
END:VEVENT
END:VCALENDAR