BEGIN:VCALENDAR
VERSION:2.0
PRODID:-//Dev - ECPv6.12.0.1//NONSGML v1.0//EN
CALSCALE:GREGORIAN
METHOD:PUBLISH
X-ORIGINAL-URL:https://www.kalinowepola.pl/cms
X-WR-CALDESC:Wydarzenia dla Dev
REFRESH-INTERVAL;VALUE=DURATION:PT1H
X-Robots-Tag:noindex
X-PUBLISHED-TTL:PT1H
BEGIN:VTIMEZONE
TZID:Europe/Warsaw
BEGIN:DAYLIGHT
TZOFFSETFROM:+0100
TZOFFSETTO:+0200
TZNAME:CEST
DTSTART:20250330T010000
END:DAYLIGHT
BEGIN:STANDARD
TZOFFSETFROM:+0200
TZOFFSETTO:+0100
TZNAME:CET
DTSTART:20251026T010000
END:STANDARD
END:VTIMEZONE
BEGIN:VEVENT
DTSTART;TZID=Europe/Warsaw:20250906T100000
DTEND;TZID=Europe/Warsaw:20250906T133000
DTSTAMP:20260420T050114
CREATED:20250613T110555Z
LAST-MODIFIED:20250701T083209Z
UID:1432-1757152800-1757165400@www.kalinowepola.pl
SUMMARY:Kalinowo Beginners League 2025 – Akademia Golfa - FINAŁ
DESCRIPTION:Regulamin turnieju beginners 2025 Akademia Golfa \nFINAŁ – Pole Central. \nW w cenie finału wliczony jest udział w turnieju\, nagrody oraz posiłek po turnieju.
URL:https://www.kalinowepola.pl/cms/event/kalinowo-beginners-league-2025-akademia-golfa-final/
CATEGORIES:kalinowe
END:VEVENT
BEGIN:VEVENT
DTSTART;TZID=Europe/Warsaw:20250913T080000
DTEND;TZID=Europe/Warsaw:20250914T170000
DTSTAMP:20260420T050114
CREATED:20250811T125025Z
LAST-MODIFIED:20250913T141346Z
UID:1545-1757750400-1757869200@www.kalinowepola.pl
SUMMARY:Otwarte Mistrzostwa Klubu Juniorów KPGC
DESCRIPTION:WYNIKI DZIEŃ I KAT. DZIECI – Kliknij \nWYNIKI DZIEŃ I Kat. J\, JM\, M \nTEE TIME DZIEŃ II \nRegulamin turnieju Otwarte Mistrzostwa Klubu Juniorów KPGC 2025 \nW dniach 13-14 września 2025 rozegramy na naszym polu golfowym Otwarte Mistrzostwa Klubu Juniorów KPGC 2025. \nPlanu turnieju: \n\n13-14 września: dwudniowy turniej golfowy \npole: East / West\n\nKategorie wiekowe: \n\nDziecko\nMłodzik\nJunior młodszy\nJunior\n\nW cenie wliczone jest: \n\nuczestnictwo w dwudniowym turnieju\nwoda\nobiad turniejowy (dwa dni)\nnagrody\n\nTermin przyjmowania zgłoszeń upływa 11 września o godzinie 15:00. Lista startowa zostanie opublikowana w piątek do godziny 16:00. \nProsimy o dokładne zapoznanie się z regulaminem turnieju. \n 
URL:https://www.kalinowepola.pl/cms/event/otwarte-mistrzostwa-klubu-juniorow-kpgc/
CATEGORIES:kalinowe
END:VEVENT
BEGIN:VEVENT
DTSTART;TZID=Europe/Warsaw:20250914T100000
DTEND;TZID=Europe/Warsaw:20250914T153000
DTSTAMP:20260420T050114
CREATED:20250611T120317Z
LAST-MODIFIED:20250912T164800Z
UID:1405-1757844000-1757863800@www.kalinowepola.pl
SUMMARY:Girls Golf Too ! Finał
DESCRIPTION:Girls Golf Too ! Summer series 2025 – regulamin
URL:https://www.kalinowepola.pl/cms/event/girls-golf-too-final/
CATEGORIES:kalinowe
END:VEVENT
BEGIN:VEVENT
DTSTART;VALUE=DATE:20250919
DTEND;VALUE=DATE:20250922
DTSTAMP:20260420T050114
CREATED:20250611T120751Z
LAST-MODIFIED:20250611T120751Z
UID:1414-1758240000-1758499199@www.kalinowepola.pl
SUMMARY:Audi Junior Tour
DESCRIPTION:
URL:https://www.kalinowepola.pl/cms/event/audi-junior-tour/
CATEGORIES:zewnetrzny
END:VEVENT
BEGIN:VEVENT
DTSTART;TZID=Europe/Warsaw:20250925T160000
DTEND;TZID=Europe/Warsaw:20250925T200000
DTSTAMP:20260420T050114
CREATED:20250611T115926Z
LAST-MODIFIED:20250922T084201Z
UID:1393-1758816000-1758830400@www.kalinowepola.pl
SUMMARY:Kalinowa Liga 54 by Eighteen Wraps
DESCRIPTION:Aktualna klasyfikacja: \nGENERALNA KLASYFIKACJA Stroke_Play_Netto_HCP_0-18 \nGENERALNA KLASYFIKACJA Stroke_Play_Netto_HCP_18\,1-36
URL:https://www.kalinowepola.pl/cms/event/kalinowa-liga-54-3/
CATEGORIES:kalinowe
END:VEVENT
BEGIN:VEVENT
DTSTART;VALUE=DATE:20250927
DTEND;VALUE=DATE:20250929
DTSTAMP:20260420T050114
CREATED:20250611T120822Z
LAST-MODIFIED:20250915T115832Z
UID:1416-1758931200-1759103999@www.kalinowepola.pl
SUMMARY:Otwarte Mistrzostwa Klubu KPGC 2025
DESCRIPTION:Otwarte Mistrzostwa Klubu KPGC 2025 – regulamin \nSzczegóły turnieju: \nRunda: 2 x 18 dołków (pole East / West) \nStarty od godziny 09:00 lub 10:00  z tee 1 lub z tee 1 oraz tee 10 (w zależności od ilości uczestników). \nTee startowe: \nKobiety: niebieskie \nMężczyźni: białe \nKoszt uczestnictwa: \nKlubowicze: 300 zł \nGoście z rocznym prawem do gry na KPGC: 330 zł \nGoście: 500 zł \nw cenie turnieju: uczestnictwo\, startpack: woda\, baton\, posiłek po turnieju oraz nagrody. \n  \nDo wygrania między innymi członkostwo na sezon 2026 ! \nProsimy o uważne zapoznanie się z regulaminem turnieju.
URL:https://www.kalinowepola.pl/cms/event/otwarte-mistrzostwa-klubu-kpgc-2025/
CATEGORIES:kalinowe
END:VEVENT
END:VCALENDAR