BEGIN:VCALENDAR
VERSION:2.0
PRODID:-//Dev - ECPv6.12.0.1//NONSGML v1.0//EN
CALSCALE:GREGORIAN
METHOD:PUBLISH
X-WR-CALNAME:Dev
X-ORIGINAL-URL:https://www.kalinowepola.pl/cms
X-WR-CALDESC:Wydarzenia dla Dev
REFRESH-INTERVAL;VALUE=DURATION:PT1H
X-Robots-Tag:noindex
X-PUBLISHED-TTL:PT1H
BEGIN:VTIMEZONE
TZID:Europe/Warsaw
BEGIN:DAYLIGHT
TZOFFSETFROM:+0100
TZOFFSETTO:+0200
TZNAME:CEST
DTSTART:20260329T010000
END:DAYLIGHT
BEGIN:STANDARD
TZOFFSETFROM:+0200
TZOFFSETTO:+0100
TZNAME:CET
DTSTART:20261025T010000
END:STANDARD
END:VTIMEZONE
BEGIN:VEVENT
DTSTART;VALUE=DATE:20260328
DTEND;VALUE=DATE:20260329
DTSTAMP:20260419T200454
CREATED:20260313T125518Z
LAST-MODIFIED:20260327T133146Z
UID:1735-1774656000-1774742399@www.kalinowepola.pl
SUMMARY:Prolog 2026
DESCRIPTION:Turniej Prolog 2026 \nSerdecznie zapraszamy na Turniej Prolog 2026\, który odbędzie się 28 marca (sobota). Rywalizujemy na polu East / Central. \nKoszt udziału: 180 zł dla wszystkich uczestników. \nW cenie turnieju zapewniamy: \n\nudział w turnieju\,\nbufet kawowy w godzinach 08:00–11:00\,\nposiłek po zakończeniu turnieju\n\nTEE TIME PROLOG 2026 – KLIKNIJ ! \nZapisy i szczegóły organizacyjne: https://eagle.polski.golf/tournament/v309/#/13569/info \nDo zobaczenia na fairway’u!
URL:https://www.kalinowepola.pl/cms/event/prolog-2026/
CATEGORIES:kalinowe
END:VEVENT
END:VCALENDAR